BEGIN:VCALENDAR
VERSION:2.0
PRODID:-//hacksw/handcal//NONSGML v1.0//EN
BEGIN:VEVENT
UID:bad9e800256ee6accb763eed55279c0c
DTSTAMP:20260424T181730Z

DTSTART:20231216T081500
DTEND:20231216T081500
SUMMARY:16 декабря поход к усадьбе Тальгрена
DESCRIPTION:\n\nПоходы и активные путешествия | ГАРМОНИЯ приглашает в поход к усадьбе Тальгрена.\n\nВ поселке Зверосовхоз, что к северо-востоку от Пушкино, сохранился старинный кирпичный дом. Благодаря поздним переделкам он на мгновение может показаться заброшенным особняком родом из девяностых, но на самом деле его история начинается намного раньше. Этот дом - все, что осталось от усадьбы, основанной во второй половине XVIII века. Дом хранит интересную историю, которую мы узнаем. Прогуляемся лесными тропами и устроим привал на берегу речки Скалба. Приготовим горячий обед на костре и поделимся впечатлениями. Подышим лесным воздухом и весело проведём время.\n\n\n\n

X-ALT-DESC;FMTTYPE=text/html:<!DOCTYPE HTML PUBLIC "-//W3C//DTD HTML 3.2//EN">\n<HTML>\n<HEAD>\n<META NAME="Generator" CONTENT="MS Exchange Server version 08.00.0681.000">\n<TITLE></TITLE>\n</HEAD>\n<BODY>\n<!-- Converted from text/rtf format -->\n\n<div class="wall_text"><br /><div id="wpt-223709299_2" class="wall_post_cont _wall_post_cont"><br /><div class="wall_post_text"><a class="mem_link" href="https://vk.com/garmonytravel">Походы и активные путешествия | ГАРМОНИЯ</a> приглашает в поход к усадьбе Тальгрена.<br /><br />В поселке Зверосовхоз, что к северо-востоку от Пушкино, сохранился старинный кирпичный дом. Благодаря поздним переделкам он на мгновение может показаться заброшенным особняком родом из девяностых, но на самом деле его история начинается намного раньше. Этот дом - все, что осталось от усадьбы, основанной во второй половине XVIII века. Дом хранит интересную историю, которую мы узнаем. Прогуляемся лесными тропами и устроим привал на берегу речки Скалба. Приготовим горячий обед на костре и поделимся впечатлениями. Подышим лесным воздухом и весело проведём время.<br /><br /></div><br /></div><br /></div>\n\n</BODY>\n</HTML>

LOCATION:
END:VEVENT

END:VCALENDAR
